BEGIN:VCALENDAR
VERSION:2.0
PRODID:spatie/icalendar-generator
BEGIN:VTIMEZONE
TZID:Europe/Zurich
BEGIN:STANDARD
DTSTART:20251026T030000
TZOFFSETFROM:+0200
TZOFFSETTO:+0100
END:STANDARD
BEGIN:DAYLIGHT
DTSTART:20260329T010000
TZOFFSETFROM:+0100
TZOFFSETTO:+0200
END:DAYLIGHT
BEGIN:STANDARD
DTSTART:20261025T030000
TZOFFSETFROM:+0200
TZOFFSETTO:+0100
END:STANDARD
BEGIN:DAYLIGHT
DTSTART:20270328T010000
TZOFFSETFROM:+0100
TZOFFSETTO:+0200
END:DAYLIGHT
END:VTIMEZONE
BEGIN:VTIMEZONE
TZID:UTC
BEGIN:STANDARD
DTSTART:20250718T140142
TZOFFSETFROM:+0000
TZOFFSETTO:+0000
END:STANDARD
END:VTIMEZONE
BEGIN:VEVENT
UID:69eca8b980363
DTSTAMP:20260414T140142Z
SUMMARY:Webinar WAH-digital
DESCRIPTION:An diesem Nachmittag wird die digitale Weiterentwicklung des Le
 hrmittels vorgestellt. Dazu gehören der digitale filRouge für Lehrperson
 en sowie die Plattform für Schülerinnen und Schüler. Lerne die vielfäl
 tigen Möglichkeiten und Funktionen sowie deren Einsatz in der Unterrichts
 vorbereitung\, -durchführung und -nachbereitung kennen und nutze die Gele
 genheit zum Austausch mit anderen WAH-Lehrpersonen und dem Team des Schulv
 erlags plus.
DTSTART;TZID=Europe/Zurich:20261029T170000
DTEND;TZID=Europe/Zurich:20261029T190000
END:VEVENT
END:VCALENDAR